BEGIN:VCALENDAR
VERSION:2.0
PRODID:-//Smoke&#039;n Dudes BBQ Supply - ECPv6.15.17.1//NONSGML v1.0//EN
CALSCALE:GREGORIAN
METHOD:PUBLISH
X-ORIGINAL-URL:https://smokendudesbbqsupply.com
X-WR-CALDESC:Events for Smoke&#039;n Dudes BBQ Supply
REFRESH-INTERVAL;VALUE=DURATION:PT1H
X-Robots-Tag:noindex
X-PUBLISHED-TTL:PT1H
BEGIN:VTIMEZONE
TZID:America/New_York
BEGIN:DAYLIGHT
TZOFFSETFROM:-0500
TZOFFSETTO:-0400
TZNAME:EDT
DTSTART:20230312T070000
END:DAYLIGHT
BEGIN:STANDARD
TZOFFSETFROM:-0400
TZOFFSETTO:-0500
TZNAME:EST
DTSTART:20231105T060000
END:STANDARD
BEGIN:DAYLIGHT
TZOFFSETFROM:-0500
TZOFFSETTO:-0400
TZNAME:EDT
DTSTART:20240310T070000
END:DAYLIGHT
BEGIN:STANDARD
TZOFFSETFROM:-0400
TZOFFSETTO:-0500
TZNAME:EST
DTSTART:20241103T060000
END:STANDARD
BEGIN:DAYLIGHT
TZOFFSETFROM:-0500
TZOFFSETTO:-0400
TZNAME:EDT
DTSTART:20250309T070000
END:DAYLIGHT
BEGIN:STANDARD
TZOFFSETFROM:-0400
TZOFFSETTO:-0500
TZNAME:EST
DTSTART:20251102T060000
END:STANDARD
BEGIN:DAYLIGHT
TZOFFSETFROM:-0500
TZOFFSETTO:-0400
TZNAME:EDT
DTSTART:20260308T070000
END:DAYLIGHT
BEGIN:STANDARD
TZOFFSETFROM:-0400
TZOFFSETTO:-0500
TZNAME:EST
DTSTART:20261101T060000
END:STANDARD
BEGIN:DAYLIGHT
TZOFFSETFROM:-0500
TZOFFSETTO:-0400
TZNAME:EDT
DTSTART:20270314T070000
END:DAYLIGHT
BEGIN:STANDARD
TZOFFSETFROM:-0400
TZOFFSETTO:-0500
TZNAME:EST
DTSTART:20271107T060000
END:STANDARD
END:VTIMEZONE
BEGIN:VEVENT
DTSTART;TZID=America/New_York:20260418T100000
DTEND;TZID=America/New_York:20260418T150000
DTSTAMP:20260420T130150
CREATED:20260217T203347Z
LAST-MODIFIED:20260217T204709Z
UID:24061-1776506400-1776524400@smokendudesbbqsupply.com
SUMMARY:The Bob & Moe BBQ Show
DESCRIPTION:The Bob and Moe BBQ Show is a 5-hour class taught by Bob Trudnak (Bobby T) and Big Moe Cason. This unique experience dives deep into cooking five meats: chicken\, pork ribs\, beef ribs\, brisket\, and pork butt. You’ll learn everything from meat selection and trimming to marinating\, brining\, seasoning\, and proper cooking techniques across all styles of grills and smokers. Throughout the class\, you’ll enjoy tasting the food as it comes straight off the smokers. We’ll kick off the day with a fully stocked Bloody Mary bar to get things started right. The class runs from 10:00 AM to 3:00 PM and is designed to be interactive—we encourage questions and tailor instruction to individual experience levels\, whether you’re a backyard BBQ enthusiast or a seasoned competitor. \n👉 Time: 10 am to 3 pm\, Saturday\, April 18\, 2026 ⏰\n👉 Location: 3720 Bristol Pike Bensalem\, PA 19020 📍\n👉 Parking: In front and behind the store (more space behind than in front) 🅿️\n👉 Tickets: $350 \n\n\n	\n	\n		Get Your Tickets
URL:https://smokendudesbbqsupply.com/event/the-bob-moe-bbq-show/
LOCATION:Smoke’n Dudes BBQ Supply\, 3720 Bristol Pike\, Bensalem\, PA\, 19020\, United States
ATTACH;FMTTYPE=image/png:https://smokendudesbbqsupply.com/wp-content/uploads/2026/02/Bob-Moe-Show-Flyer.png
ORGANIZER;CN="Smoke'n Dudes BBQ Supply":MAILTO:smokendudesbbq@gmail.com
END:VEVENT
BEGIN:VEVENT
DTSTART;TZID=America/New_York:20260321T100000
DTEND;TZID=America/New_York:20260321T120000
DTSTAMP:20260420T130150
CREATED:20260123T231141Z
LAST-MODIFIED:20260217T222738Z
UID:23960-1774087200-1774094400@smokendudesbbqsupply.com
SUMMARY:Brisket 101 Class With Brad Pisauro
DESCRIPTION:The Bob and Moe BBQ Show is a 5-hour class taught by Bob Trudnak (Bobby T) and Big Moe Cason. This unique experience dives deep into cooking five meats: chicken\, pork ribs\, beef ribs\, brisket\, and pork butt. You’ll learn everything from meat selection and trimming to marinating\, brining\, seasoning\, and proper cooking techniques across all styles of grills and smokers. Throughout the class\, you’ll enjoy tasting the food as it comes straight off the smokers. We’ll kick off the day with a fully stocked Bloody Mary bar to get things started right. The class runs from 10:00 AM to 3:00 PM and is designed to be interactive—we encourage questions and tailor instruction to individual experience levels\, whether you’re a backyard BBQ enthusiast or a seasoned competitor. \n👉 Time: 10 am to 3 pm\, Saturday\, April 18\, 2026 ⏰\n👉 Location: 3720 Bristol Pike Bensalem\, PA 19020 📍\n👉 Parking: In front and behind the store (more space behind than in front) 🅿️\n👉 Tickets: $350 \n\n\n	\n	\n		Get Your Tickets
URL:https://smokendudesbbqsupply.com/event/brisket-101-class-with-brad-pisauro/
LOCATION:Smoke’n Dudes BBQ Supply\, 3720 Bristol Pike\, Bensalem\, PA\, 19020\, United States
ATTACH;FMTTYPE=image/png:https://smokendudesbbqsupply.com/wp-content/uploads/2026/01/FINAL-EDIT-Brad-Brisket-101-Class.png
ORGANIZER;CN="Smoke'n Dudes BBQ Supply":MAILTO:smokendudesbbq@gmail.com
END:VEVENT
BEGIN:VEVENT
DTSTART;VALUE=DATE:20260314
DTEND;VALUE=DATE:20260315
DTSTAMP:20260420T130150
CREATED:20260124T182005Z
LAST-MODIFIED:20260124T183159Z
UID:23975-1773446400-1773532799@smokendudesbbqsupply.com
SUMMARY:Big Green Egg Demo Cook
DESCRIPTION:The Bob and Moe BBQ Show is a 5-hour class taught by Bob Trudnak (Bobby T) and Big Moe Cason. This unique experience dives deep into cooking five meats: chicken\, pork ribs\, beef ribs\, brisket\, and pork butt. You’ll learn everything from meat selection and trimming to marinating\, brining\, seasoning\, and proper cooking techniques across all styles of grills and smokers. Throughout the class\, you’ll enjoy tasting the food as it comes straight off the smokers. We’ll kick off the day with a fully stocked Bloody Mary bar to get things started right. The class runs from 10:00 AM to 3:00 PM and is designed to be interactive—we encourage questions and tailor instruction to individual experience levels\, whether you’re a backyard BBQ enthusiast or a seasoned competitor. \n👉 Time: 10 am to 3 pm\, Saturday\, April 18\, 2026 ⏰\n👉 Location: 3720 Bristol Pike Bensalem\, PA 19020 📍\n👉 Parking: In front and behind the store (more space behind than in front) 🅿️\n👉 Tickets: $350 \n\n\n	\n	\n		Get Your Tickets
URL:https://smokendudesbbqsupply.com/event/big-green-egg-demo-cook/
LOCATION:PA
ATTACH;FMTTYPE=image/png:https://smokendudesbbqsupply.com/wp-content/uploads/2026/01/Big-Green-Egg-Demo-Cook-1.png
END:VEVENT
BEGIN:VEVENT
DTSTART;TZID=America/New_York:20251122T100000
DTEND;TZID=America/New_York:20251122T120000
DTSTAMP:20260420T130150
CREATED:20251025T072118Z
LAST-MODIFIED:20251115T174543Z
UID:23095-1763805600-1763812800@smokendudesbbqsupply.com
SUMMARY:Pork 101 Class
DESCRIPTION:The Bob and Moe BBQ Show is a 5-hour class taught by Bob Trudnak (Bobby T) and Big Moe Cason. This unique experience dives deep into cooking five meats: chicken\, pork ribs\, beef ribs\, brisket\, and pork butt. You’ll learn everything from meat selection and trimming to marinating\, brining\, seasoning\, and proper cooking techniques across all styles of grills and smokers. Throughout the class\, you’ll enjoy tasting the food as it comes straight off the smokers. We’ll kick off the day with a fully stocked Bloody Mary bar to get things started right. The class runs from 10:00 AM to 3:00 PM and is designed to be interactive—we encourage questions and tailor instruction to individual experience levels\, whether you’re a backyard BBQ enthusiast or a seasoned competitor. \n👉 Time: 10 am to 3 pm\, Saturday\, April 18\, 2026 ⏰\n👉 Location: 3720 Bristol Pike Bensalem\, PA 19020 📍\n👉 Parking: In front and behind the store (more space behind than in front) 🅿️\n👉 Tickets: $350 \n\n\n	\n	\n		Get Your Tickets
URL:https://smokendudesbbqsupply.com/event/pork-101-class/
LOCATION:Smoke’n Dudes BBQ Supply\, 3720 Bristol Pike\, Bensalem\, PA\, 19020\, United States
ATTACH;FMTTYPE=image/png:https://smokendudesbbqsupply.com/wp-content/uploads/2025/10/Smoken-Dudes-BBQ-Pork-101-Class-2.png
ORGANIZER;CN="Smoke'n Dudes BBQ Supply":MAILTO:smokendudesbbq@gmail.com
END:VEVENT
BEGIN:VEVENT
DTSTART;TZID=America/New_York:20250329T110000
DTEND;TZID=America/New_York:20250329T130000
DTSTAMP:20260420T130150
CREATED:20250221T170828Z
LAST-MODIFIED:20250224T213751Z
UID:19013-1743246000-1743253200@smokendudesbbqsupply.com
SUMMARY:Brisket 101 Class
DESCRIPTION:The Bob and Moe BBQ Show is a 5-hour class taught by Bob Trudnak (Bobby T) and Big Moe Cason. This unique experience dives deep into cooking five meats: chicken\, pork ribs\, beef ribs\, brisket\, and pork butt. You’ll learn everything from meat selection and trimming to marinating\, brining\, seasoning\, and proper cooking techniques across all styles of grills and smokers. Throughout the class\, you’ll enjoy tasting the food as it comes straight off the smokers. We’ll kick off the day with a fully stocked Bloody Mary bar to get things started right. The class runs from 10:00 AM to 3:00 PM and is designed to be interactive—we encourage questions and tailor instruction to individual experience levels\, whether you’re a backyard BBQ enthusiast or a seasoned competitor. \n👉 Time: 10 am to 3 pm\, Saturday\, April 18\, 2026 ⏰\n👉 Location: 3720 Bristol Pike Bensalem\, PA 19020 📍\n👉 Parking: In front and behind the store (more space behind than in front) 🅿️\n👉 Tickets: $350 \n\n\n	\n	\n		Get Your Tickets
URL:https://smokendudesbbqsupply.com/event/brisket-101-class-2025/
LOCATION:Smoke’n Dudes BBQ Supply\, 3720 Bristol Pike\, Bensalem\, PA\, 19020\, United States
ATTACH;FMTTYPE=image/jpeg:https://smokendudesbbqsupply.com/wp-content/uploads/2025/02/2025_Brisket_Class_101.jpg
ORGANIZER;CN="Smoke'n Dudes BBQ Supply":MAILTO:smokendudesbbq@gmail.com
END:VEVENT
BEGIN:VEVENT
DTSTART;TZID=America/New_York:20241207T110000
DTEND;TZID=America/New_York:20241207T130000
DTSTAMP:20260420T130150
CREATED:20241111T224507Z
LAST-MODIFIED:20241203T205123Z
UID:19247-1733569200-1733576400@smokendudesbbqsupply.com
SUMMARY:Ribs & Sausage 101
DESCRIPTION:The Bob and Moe BBQ Show is a 5-hour class taught by Bob Trudnak (Bobby T) and Big Moe Cason. This unique experience dives deep into cooking five meats: chicken\, pork ribs\, beef ribs\, brisket\, and pork butt. You’ll learn everything from meat selection and trimming to marinating\, brining\, seasoning\, and proper cooking techniques across all styles of grills and smokers. Throughout the class\, you’ll enjoy tasting the food as it comes straight off the smokers. We’ll kick off the day with a fully stocked Bloody Mary bar to get things started right. The class runs from 10:00 AM to 3:00 PM and is designed to be interactive—we encourage questions and tailor instruction to individual experience levels\, whether you’re a backyard BBQ enthusiast or a seasoned competitor. \n👉 Time: 10 am to 3 pm\, Saturday\, April 18\, 2026 ⏰\n👉 Location: 3720 Bristol Pike Bensalem\, PA 19020 📍\n👉 Parking: In front and behind the store (more space behind than in front) 🅿️\n👉 Tickets: $350 \n\n\n	\n	\n		Get Your Tickets
URL:https://smokendudesbbqsupply.com/event/ribs-and-sausage-101/
LOCATION:Smoke’n Dudes BBQ Supply\, 3720 Bristol Pike\, Bensalem\, PA\, 19020\, United States
ATTACH;FMTTYPE=image/png:https://smokendudesbbqsupply.com/wp-content/uploads/2024/11/Ribs_and_Sausage_101_Class.png
ORGANIZER;CN="Smoke'n Dudes BBQ Supply":MAILTO:smokendudesbbq@gmail.com
END:VEVENT
BEGIN:VEVENT
DTSTART;TZID=America/New_York:20241026T110000
DTEND;TZID=America/New_York:20241026T130000
DTSTAMP:20260420T130150
CREATED:20241009T210810Z
LAST-MODIFIED:20241025T022155Z
UID:18988-1729940400-1729947600@smokendudesbbqsupply.com
SUMMARY:Brisket 101
DESCRIPTION:The Bob and Moe BBQ Show is a 5-hour class taught by Bob Trudnak (Bobby T) and Big Moe Cason. This unique experience dives deep into cooking five meats: chicken\, pork ribs\, beef ribs\, brisket\, and pork butt. You’ll learn everything from meat selection and trimming to marinating\, brining\, seasoning\, and proper cooking techniques across all styles of grills and smokers. Throughout the class\, you’ll enjoy tasting the food as it comes straight off the smokers. We’ll kick off the day with a fully stocked Bloody Mary bar to get things started right. The class runs from 10:00 AM to 3:00 PM and is designed to be interactive—we encourage questions and tailor instruction to individual experience levels\, whether you’re a backyard BBQ enthusiast or a seasoned competitor. \n👉 Time: 10 am to 3 pm\, Saturday\, April 18\, 2026 ⏰\n👉 Location: 3720 Bristol Pike Bensalem\, PA 19020 📍\n👉 Parking: In front and behind the store (more space behind than in front) 🅿️\n👉 Tickets: $350 \n\n\n	\n	\n		Get Your Tickets
URL:https://smokendudesbbqsupply.com/event/brisket-101/
LOCATION:Smoke’n Dudes BBQ Supply\, 3720 Bristol Pike\, Bensalem\, PA\, 19020\, United States
ATTACH;FMTTYPE=image/png:https://smokendudesbbqsupply.com/wp-content/uploads/2024/10/Brisket_101_Class.png
ORGANIZER;CN="Smoke'n Dudes BBQ Supply":MAILTO:smokendudesbbq@gmail.com
END:VEVENT
END:VCALENDAR